BEGIN:VCALENDAR
VERSION:2.0
PRODID:-//wp-events-plugin.com//7.2.3.1//EN
TZID:Europe/Warsaw
X-WR-TIMEZONE:Europe/Warsaw
BEGIN:VEVENT
UID:388@marin.com.pl
DTSTART;TZID=Europe/Warsaw:20260801T090000
DTEND;TZID=Europe/Warsaw:20260801T150000
DTSTAMP:20251126T200751Z
URL:https://www.marin.com.pl/events/kurs-na-patent-sternika-motorowodnego-
 kmd-7-26/
SUMMARY:Kurs na patent sternika motorowodnego KMD-7
DESCRIPTION:Kurs motorowodny na Mazurach dla dorosłych.
ATTACH;FMTTYPE=image/jpeg:https://www.marin.com.pl/wp-content/uploads/2021
 /01/motorowka-3-scaled.jpg
CATEGORIES:Kurs motorowodny
LOCATION:Mix Port\, Ruska Wieś 1\, Ruska Wieś\, Warmińsko-Mazurskie\, 11
 -600\, Warmińsko - Mazurskie\, Poland
X-APPLE-STRUCTURED-LOCATION;VALUE=URI;X-ADDRESS=Ruska Wieś 1\, Ruska Wieś
 \, Warmińsko-Mazurskie\, 11-600\, Warmińsko - Mazurskie\, Poland;X-APPLE
 -RADIUS=100;X-TITLE=Mix Port:geo:0,0
END:VEVENT
BEGIN:VTIMEZONE
TZID:Europe/Warsaw
X-LIC-LOCATION:Europe/Warsaw
BEGIN:DAYLIGHT
DTSTART:20260329T030000
TZOFFSETFROM:+0100
TZOFFSETTO:+0200
TZNAME:CEST
END:DAYLIGHT
END:VTIMEZONE
END:VCALENDAR